BEGIN:VCALENDAR
PRODID:-//Hannon Hill Events//Cascade CMS//EN
VERSION:2.0
X-WR-CALNAME:Community Health Worker Short-Term Training
X-WR-TIMEZONE:America/New_York
BEGIN:VTIMEZONE
TZID:America/New_York
BEGIN:DAYLIGHT
TZOFFSETFROM:-0500
TZOFFSETTO:-0400
TZNAME:EDT
DTSTART:19700308T020000
RRULE:FREQ=YEARLY;BYMONTH=3;BYDAY=2SU
END:DAYLIGHT
BEGIN:STANDARD
TZOFFSETFROM:-0400
TZOFFSETTO:-0500
TZNAME:EST
DTSTART:19701101T020000
RRULE:FREQ=YEARLY;BYMONTH=11;BYDAY=1SU
END:STANDARD
END:VTIMEZONE
BEGIN:VEVENT
DTSTART:20261007T080000
DTEND:20261007T170000
DTSTAMP:20260420T060031
UID:8be8163a0a0000ec0e48756701a1ddde
CREATED:20260414T081216
DESCRIPTION:Join Mid&apos\;s Community Health Worker Hybrid Short-Term Tra
 ining starting October 7. Gain skills to connect families to services. Pre
 -register now!
LAST-MODIFIED:20260414T081255
SEQUENCE:0
STATUS:CONFIRMED
SUMMARY:Community Health Worker Short-Term Training
TRANSP:OPAQUE
END:VEVENT
END:VCALENDAR
