BEGIN:VCALENDAR
PRODID:-//Hannon Hill Events//Cascade CMS//EN
VERSION:2.0
X-WR-CALNAME:Commercial Driver&apos\;s License Short-Term Training
X-WR-TIMEZONE:America/New_York
BEGIN:VTIMEZONE
TZID:America/New_York
BEGIN:DAYLIGHT
TZOFFSETFROM:-0500
TZOFFSETTO:-0400
TZNAME:EDT
DTSTART:19700308T020000
RRULE:FREQ=YEARLY;BYMONTH=3;BYDAY=2SU
END:DAYLIGHT
BEGIN:STANDARD
TZOFFSETFROM:-0400
TZOFFSETTO:-0500
TZNAME:EST
DTSTART:19701101T020000
RRULE:FREQ=YEARLY;BYMONTH=11;BYDAY=1SU
END:STANDARD
END:VTIMEZONE
BEGIN:VEVENT
DTSTART:20260622T080000
DTEND:20260622T163000
DTSTAMP:20260420T060207
UID:8c1b58a70a0000ec0e487567e955ef40
CREATED:20260414T090815
DESCRIPTION:Get your Class A CDL in just three weeks with hands-on trainin
 g at Mid Michigan! Pre-register now for training starting June 22.
LAST-MODIFIED:20260414T090841
SEQUENCE:0
STATUS:CONFIRMED
SUMMARY:Commercial Driver&apos\;s License Short-Term Training
TRANSP:OPAQUE
END:VEVENT
END:VCALENDAR
